BEGIN:VCALENDAR
VERSION:2.0
PRODID:-//93.90.186.202//NONSGML kigkonsult.se iCalcreator 2.20//
CALSCALE:GREGORIAN
METHOD:PUBLISH
X-WR-TIMEZONE:Europe/Berlin
BEGIN:VEVENT
UID:event65@PMK Düsseldorf
DTSTAMP:20260419T161944Z
CATEGORIES:katecheza
DESCRIPTION:Katecheza dla dorosłych\nKategoria: katecheza\nLink: http://pmk
 duesseldorf.de/index.php?option=com_jem&view=event&id=65:katecheza-dla-dor
 oslych\n
DTSTART;VALUE=DATE:20190606
DTEND;VALUE=DATE:20190607
LOCATION:St. Maria in den Benden\,Dechenweg 40\,40591 Düsseldorf
SUMMARY:Katecheza dla dorosłych
URL:http://pmkduesseldorf.de/index.php?option=com_jem&view=event&id=65:kate
 cheza-dla-doroslych
END:VEVENT
END:VCALENDAR
